Package: pipeFrame Version: 1.25.1 Command: /Library/Frameworks/R.framework/Resources/bin/R CMD INSTALL pipeFrame StartedAt: 2025-10-27 15:31:14 -0400 (Mon, 27 Oct 2025) EndedAt: 2025-10-27 15:31:28 -0400 (Mon, 27 Oct 2025) EllapsedTime: 13.7 seconds RetCode: 0 Status: OK