Package: pipeFrame Version: 1.25.1 Command: /Library/Frameworks/R.framework/Resources/bin/R CMD build --keep-empty-dirs --no-resave-data pipeFrame StartedAt: 2025-10-26 17:32:43 -0400 (Sun, 26 Oct 2025) EndedAt: 2025-10-26 17:42:20 -0400 (Sun, 26 Oct 2025) EllapsedTime: 577.3 seconds RetCode: 1 Status: ERROR PackageFile: None PackageFileSize: NA