Package: pipeFrame Version: 1.25.1 Command: rm -rf pipeFrame.buildbin-libdir && mkdir pipeFrame.buildbin-libdir && /Users/biocbuild/BBS/utils/build-universal.sh pipeFrame_1.25.1.tar.gz /Library/Frameworks/R.framework/Resources/bin/R pipeFrame.buildbin-libdir StartedAt: 2025-10-24 23:14:07 -0400 (Fri, 24 Oct 2025) EndedAt: 2025-10-24 23:14:21 -0400 (Fri, 24 Oct 2025) EllapsedTime: 14.4 seconds RetCode: 0 Status: OK PackageFile: pipeFrame_1.25.1.tgz PackageFileSize: 1.08 MiB