Package: pipeComp Version: 1.19.0 Command: rm -rf pipeComp.buildbin-libdir && mkdir pipeComp.buildbin-libdir && /Users/biocbuild/BBS/utils/build-universal.sh pipeComp_1.19.0.tar.gz /Library/Frameworks/R.framework/Resources/bin/R pipeComp.buildbin-libdir StartedAt: 2025-10-25 01:55:43 -0400 (Sat, 25 Oct 2025) EndedAt: 2025-10-25 01:57:11 -0400 (Sat, 25 Oct 2025) EllapsedTime: 87.6 seconds RetCode: 0 Status: OK PackageFile: pipeComp_1.19.0.tgz PackageFileSize: 4.513 MiB