Package: pipeComp Version: 1.19.0 Command: /Library/Frameworks/R.framework/Resources/bin/R CMD INSTALL pipeComp StartedAt: 2025-10-27 15:29:34 -0400 (Mon, 27 Oct 2025) EndedAt: 2025-10-27 15:30:03 -0400 (Mon, 27 Oct 2025) EllapsedTime: 29.9 seconds RetCode: 0 Status: OK