Package: pipeComp Version: 1.19.0 Command: /Library/Frameworks/R.framework/Resources/bin/R CMD build --keep-empty-dirs --no-resave-data pipeComp StartedAt: 2025-10-26 17:32:43 -0400 (Sun, 26 Oct 2025) EndedAt: 2025-10-26 17:33:24 -0400 (Sun, 26 Oct 2025) EllapsedTime: 40.4 seconds RetCode: 0 Status: OK PackageFile: pipeComp_1.19.0.tar.gz PackageFileSize: 4.006 MiB