Package: phyloseq Version: 1.54.0 Command: /Library/Frameworks/R.framework/Resources/bin/R CMD INSTALL phyloseq StartedAt: 2025-11-02 15:08:25 -0500 (Sun, 02 Nov 2025) EndedAt: 2025-11-02 15:08:34 -0500 (Sun, 02 Nov 2025) EllapsedTime: 9.8 seconds RetCode: 0 Status: OK