Package: phyloseq Version: 1.54.0 Command: /Library/Frameworks/R.framework/Resources/bin/R CMD build --keep-empty-dirs --no-resave-data phyloseq StartedAt: 2025-11-02 17:20:35 -0500 (Sun, 02 Nov 2025) EndedAt: 2025-11-02 17:21:15 -0500 (Sun, 02 Nov 2025) EllapsedTime: 40.5 seconds RetCode: 1 Status: ERROR PackageFile: None PackageFileSize: NA