Package: phosphonormalizer Version: 1.34.0 Command: /home/biocbuild/R/R/bin/R CMD INSTALL phosphonormalizer StartedAt: 2025-11-24 21:05:38 -0000 (Mon, 24 Nov 2025) EndedAt: 2025-11-24 21:06:04 -0000 (Mon, 24 Nov 2025) EllapsedTime: 25.5 seconds RetCode: 0 Status: OK