Package: phosphonormalizer Version: 1.34.0 Command: /home/biocbuild/R/R/bin/R CMD build --keep-empty-dirs --no-resave-data phosphonormalizer StartedAt: 2025-11-25 03:59:00 -0000 (Tue, 25 Nov 2025) EndedAt: 2025-11-25 03:59:10 -0000 (Tue, 25 Nov 2025) EllapsedTime: 10.0 seconds RetCode: 0 Status: OK PackageFile: phosphonormalizer_1.34.0.tar.gz PackageFileSize: 2.68 MiB