Package: phosphonormalizer Version: 1.33.0 Command: /home/biocbuild/bbs-3.22-bioc/R/bin/R CMD INSTALL phosphonormalizer StartedAt: 2025-10-24 15:14:54 -0400 (Fri, 24 Oct 2025) EndedAt: 2025-10-24 15:15:06 -0400 (Fri, 24 Oct 2025) EllapsedTime: 11.3 seconds RetCode: 0 Status: OK