Package: phosphonormalizer Version: 1.33.0 Command: /Library/Frameworks/R.framework/Resources/bin/R CMD build --keep-empty-dirs --no-resave-data phosphonormalizer StartedAt: 2025-10-24 18:15:33 -0400 (Fri, 24 Oct 2025) EndedAt: 2025-10-24 18:15:48 -0400 (Fri, 24 Oct 2025) EllapsedTime: 14.9 seconds RetCode: 0 Status: OK PackageFile: phosphonormalizer_1.33.0.tar.gz PackageFileSize: 2.7 MiB