Package: philr Version: 1.35.0 Command: /home/biocbuild/bbs-3.22-bioc/R/bin/R CMD INSTALL philr StartedAt: 2025-10-24 15:21:09 -0400 (Fri, 24 Oct 2025) EndedAt: 2025-10-24 15:21:22 -0400 (Fri, 24 Oct 2025) EllapsedTime: 13.7 seconds RetCode: 0 Status: OK