Package: phenomis Version: 1.12.0 Command: /home/biocbuild/bbs-3.22-bioc/R/bin/R CMD build --keep-empty-dirs --no-resave-data --md5 phenomis StartedAt: 2025-10-30 01:41:21 -0400 (Thu, 30 Oct 2025) EndedAt: 2025-10-30 01:42:49 -0400 (Thu, 30 Oct 2025) EllapsedTime: 88.1 seconds RetCode: 0 Status: OK PackageFile: phenomis_1.12.0.tar.gz PackageFileSize: 3.984 MiB