Package: phenoTest Version: 1.57.0 Command: /home/biocbuild/bbs-3.22-bioc/R/bin/R CMD build --keep-empty-dirs --no-resave-data --md5 phenoTest StartedAt: 2025-10-24 19:26:29 -0400 (Fri, 24 Oct 2025) EndedAt: 2025-10-24 19:27:22 -0400 (Fri, 24 Oct 2025) EllapsedTime: 53.1 seconds RetCode: 0 Status: OK PackageFile: phenoTest_1.57.0.tar.gz PackageFileSize: 1.275 MiB