Package: phantasusLite Version: 1.7.0 Command: /home/biocbuild/bbs-3.22-bioc/R/bin/R CMD build --keep-empty-dirs --no-resave-data --md5 phantasusLite StartedAt: 2025-10-24 19:26:07 -0400 (Fri, 24 Oct 2025) EndedAt: 2025-10-24 19:26:58 -0400 (Fri, 24 Oct 2025) EllapsedTime: 51.1 seconds RetCode: 0 Status: OK PackageFile: phantasusLite_1.7.0.tar.gz PackageFileSize: 234.8 KiB