Package: phantasus Version: 1.29.0 Command: /home/biocbuild/bbs-3.22-bioc/R/bin/R CMD INSTALL phantasus StartedAt: 2025-10-24 16:10:19 -0400 (Fri, 24 Oct 2025) EndedAt: 2025-10-24 16:10:52 -0400 (Fri, 24 Oct 2025) EllapsedTime: 33.6 seconds RetCode: 0 Status: OK