Package: phantasus Version: 1.29.0 Command: /home/biocbuild/bbs-3.22-bioc/R/bin/R CMD build --keep-empty-dirs --no-resave-data --md5 phantasus StartedAt: 2025-10-24 19:25:55 -0400 (Fri, 24 Oct 2025) EndedAt: 2025-10-24 19:26:35 -0400 (Fri, 24 Oct 2025) EllapsedTime: 40.1 seconds RetCode: 0 Status: OK PackageFile: phantasus_1.29.0.tar.gz PackageFileSize: 9.55 MiB