Package: pgxRpi Version: 1.5.5 Command: /home/biocbuild/bbs-3.22-bioc/R/bin/R CMD INSTALL pgxRpi StartedAt: 2025-10-27 15:34:35 -0400 (Mon, 27 Oct 2025) EndedAt: 2025-10-27 15:34:38 -0400 (Mon, 27 Oct 2025) EllapsedTime: 2.9 seconds RetCode: 0 Status: OK