Package: pgxRpi Version: 1.5.5 Command: /home/biocbuild/bbs-3.22-bioc/R/bin/R CMD build --keep-empty-dirs --no-resave-data --md5 pgxRpi StartedAt: 2025-10-27 19:17:25 -0400 (Mon, 27 Oct 2025) EndedAt: 2025-10-27 19:25:28 -0400 (Mon, 27 Oct 2025) EllapsedTime: 483.5 seconds RetCode: 0 Status: OK PackageFile: pgxRpi_1.5.5.tar.gz PackageFileSize: 2.789 MiB