Package: pgxRpi Version: 1.6.0 Command: /Library/Frameworks/R.framework/Resources/bin/R CMD build --keep-empty-dirs --no-resave-data pgxRpi StartedAt: 2025-11-03 18:13:54 -0500 (Mon, 03 Nov 2025) EndedAt: 2025-11-03 18:22:28 -0500 (Mon, 03 Nov 2025) EllapsedTime: 513.7 seconds RetCode: 0 Status: OK PackageFile: pgxRpi_1.6.0.tar.gz PackageFileSize: 2.939 MiB