Package: pgxRpi Version: 1.5.5 Command: /Library/Frameworks/R.framework/Resources/bin/R CMD INSTALL pgxRpi StartedAt: 2025-10-27 15:17:33 -0400 (Mon, 27 Oct 2025) EndedAt: 2025-10-27 15:17:35 -0400 (Mon, 27 Oct 2025) EllapsedTime: 1.2 seconds RetCode: 0 Status: OK