Package: pgxRpi Version: 1.5.5 Command: /Library/Frameworks/R.framework/Resources/bin/R CMD build --keep-empty-dirs --no-resave-data pgxRpi StartedAt: 2025-10-27 17:19:38 -0400 (Mon, 27 Oct 2025) EndedAt: 2025-10-27 17:23:23 -0400 (Mon, 27 Oct 2025) EllapsedTime: 224.6 seconds RetCode: 0 Status: OK PackageFile: pgxRpi_1.5.5.tar.gz PackageFileSize: 2.94 MiB