Package: pgxRpi Version: 1.5.5 Command: rm -rf pgxRpi.buildbin-libdir && mkdir pgxRpi.buildbin-libdir && /Users/biocbuild/BBS/utils/build-universal.sh pgxRpi_1.5.5.tar.gz /Library/Frameworks/R.framework/Resources/bin/R pgxRpi.buildbin-libdir StartedAt: 2025-10-27 23:13:26 -0400 (Mon, 27 Oct 2025) EndedAt: 2025-10-27 23:13:28 -0400 (Mon, 27 Oct 2025) EllapsedTime: 2.1 seconds RetCode: 0 Status: OK PackageFile: pgxRpi_1.5.5.tgz PackageFileSize: 3.043 MiB