Package: pgca Version: 1.33.0 Command: /home/biocbuild/bbs-3.22-bioc/R/bin/R CMD INSTALL pgca StartedAt: 2025-10-27 15:04:25 -0400 (Mon, 27 Oct 2025) EndedAt: 2025-10-27 15:04:30 -0400 (Mon, 27 Oct 2025) EllapsedTime: 4.8 seconds RetCode: 0 Status: OK