Package: pfamAnalyzeR Version: 1.10.0 Command: /home/biocbuild/bbs-3.22-bioc/R/bin/R CMD build --keep-empty-dirs --no-resave-data --md5 pfamAnalyzeR StartedAt: 2025-10-30 01:40:56 -0400 (Thu, 30 Oct 2025) EndedAt: 2025-10-30 01:41:03 -0400 (Thu, 30 Oct 2025) EllapsedTime: 7.0 seconds RetCode: 0 Status: OK PackageFile: pfamAnalyzeR_1.10.0.tar.gz PackageFileSize: 352.6 KiB