Package: pepXMLTab Version: 1.43.0 Command: /home/biocbuild/R/R/bin/R CMD INSTALL pepXMLTab StartedAt: 2025-10-23 20:17:09 -0000 (Thu, 23 Oct 2025) EndedAt: 2025-10-23 20:17:31 -0000 (Thu, 23 Oct 2025) EllapsedTime: 22.1 seconds RetCode: 0 Status: OK