Package: pepXMLTab Version: 1.43.0 Command: /home/biocbuild/R/R/bin/R CMD build --keep-empty-dirs --no-resave-data pepXMLTab StartedAt: 2025-10-21 02:01:55 -0000 (Tue, 21 Oct 2025) EndedAt: 2025-10-21 02:02:03 -0000 (Tue, 21 Oct 2025) EllapsedTime: 8.0 seconds RetCode: 0 Status: OK PackageFile: pepXMLTab_1.43.0.tar.gz PackageFileSize: 185.4 KiB