Package: pepXMLTab Version: 1.43.0 Command: /Library/Frameworks/R.framework/Resources/bin/R CMD INSTALL pepXMLTab StartedAt: 2025-10-24 15:12:34 -0400 (Fri, 24 Oct 2025) EndedAt: 2025-10-24 15:13:15 -0400 (Fri, 24 Oct 2025) EllapsedTime: 41.2 seconds RetCode: 0 Status: OK