Package: pepXMLTab Version: 1.43.0 Command: /Library/Frameworks/R.framework/Resources/bin/R CMD build --keep-empty-dirs --no-resave-data pepXMLTab StartedAt: 2025-10-24 18:14:21 -0400 (Fri, 24 Oct 2025) EndedAt: 2025-10-24 18:14:35 -0400 (Fri, 24 Oct 2025) EllapsedTime: 13.7 seconds RetCode: 0 Status: OK PackageFile: pepXMLTab_1.43.0.tar.gz PackageFileSize: 187.4 KiB