Package: pepXMLTab Version: 1.43.0 Command: rm -rf pepXMLTab.buildbin-libdir && mkdir pepXMLTab.buildbin-libdir && /Users/biocbuild/BBS/utils/build-universal.sh pepXMLTab_1.43.0.tar.gz /Library/Frameworks/R.framework/Resources/bin/R pepXMLTab.buildbin-libdir StartedAt: 2025-10-25 01:55:27 -0400 (Sat, 25 Oct 2025) EndedAt: 2025-10-25 01:55:34 -0400 (Sat, 25 Oct 2025) EllapsedTime: 7.0 seconds RetCode: 0 Status: OK PackageFile: pepXMLTab_1.43.0.tgz PackageFileSize: 206.2 KiB