Package: pepXMLTab Version: 1.43.0 Command: /Library/Frameworks/R.framework/Resources/bin/R CMD INSTALL pepXMLTab StartedAt: 2025-10-27 15:01:17 -0400 (Mon, 27 Oct 2025) EndedAt: 2025-10-27 15:01:21 -0400 (Mon, 27 Oct 2025) EllapsedTime: 3.2 seconds RetCode: 0 Status: OK