Package: pepXMLTab Version: 1.43.0 Command: /Library/Frameworks/R.framework/Resources/bin/R CMD build --keep-empty-dirs --no-resave-data pepXMLTab StartedAt: 2025-10-26 17:31:55 -0400 (Sun, 26 Oct 2025) EndedAt: 2025-10-26 17:32:00 -0400 (Sun, 26 Oct 2025) EllapsedTime: 5.1 seconds RetCode: 0 Status: OK PackageFile: pepXMLTab_1.43.0.tar.gz PackageFileSize: 187.6 KiB