Package: pepStat Version: 1.43.0 Command: /home/biocbuild/bbs-3.22-bioc/R/bin/R CMD build --keep-empty-dirs --no-resave-data --md5 pepStat StartedAt: 2025-10-27 19:17:04 -0400 (Mon, 27 Oct 2025) EndedAt: 2025-10-27 19:17:57 -0400 (Mon, 27 Oct 2025) EllapsedTime: 53.1 seconds RetCode: 0 Status: OK PackageFile: pepStat_1.43.0.tar.gz PackageFileSize: 321.8 KiB