Package: pengls Version: 1.15.2 Command: /home/biocbuild/bbs-3.22-bioc/R/bin/R CMD INSTALL pengls StartedAt: 2025-10-24 15:16:50 -0400 (Fri, 24 Oct 2025) EndedAt: 2025-10-24 15:17:27 -0400 (Fri, 24 Oct 2025) EllapsedTime: 37.0 seconds RetCode: 0 Status: OK