Package: pengls Version: 1.15.2 Command: /home/biocbuild/bbs-3.22-bioc/R/bin/R CMD build --keep-empty-dirs --no-resave-data --md5 pengls StartedAt: 2025-10-27 19:16:50 -0400 (Mon, 27 Oct 2025) EndedAt: 2025-10-27 19:19:09 -0400 (Mon, 27 Oct 2025) EllapsedTime: 139.2 seconds RetCode: 0 Status: OK PackageFile: pengls_1.15.2.tar.gz PackageFileSize: 58.73 KiB