Package: pengls Version: 1.16.0 Command: /Library/Frameworks/R.framework/Resources/bin/R CMD INSTALL pengls StartedAt: 2025-11-10 15:03:40 -0500 (Mon, 10 Nov 2025) EndedAt: 2025-11-10 15:04:00 -0500 (Mon, 10 Nov 2025) EllapsedTime: 20.0 seconds RetCode: 0 Status: OK