Package: pengls Version: 1.16.0 Command: /Library/Frameworks/R.framework/Resources/bin/R CMD build --keep-empty-dirs --no-resave-data pengls StartedAt: 2025-11-10 17:20:26 -0500 (Mon, 10 Nov 2025) EndedAt: 2025-11-10 17:21:57 -0500 (Mon, 10 Nov 2025) EllapsedTime: 91.0 seconds RetCode: 0 Status: OK PackageFile: pengls_1.16.0.tar.gz PackageFileSize: 62.36 KiB