Package: peakPantheR Version: 1.24.0 Command: /Library/Frameworks/R.framework/Resources/bin/R CMD build --keep-empty-dirs --no-resave-data peakPantheR StartedAt: 2025-10-31 17:23:13 -0400 (Fri, 31 Oct 2025) EndedAt: 2025-10-31 17:24:03 -0400 (Fri, 31 Oct 2025) EllapsedTime: 50.6 seconds RetCode: 0 Status: OK PackageFile: peakPantheR_1.24.0.tar.gz PackageFileSize: 3.956 MiB