Package: peakPantheR Version: 1.24.0 Command: rm -rf peakPantheR.buildbin-libdir && mkdir peakPantheR.buildbin-libdir && /Users/biocbuild/BBS/utils/build-universal.sh peakPantheR_1.24.0.tar.gz /Library/Frameworks/R.framework/Resources/bin/R peakPantheR.buildbin-libdir StartedAt: 2025-10-31 23:17:53 -0400 (Fri, 31 Oct 2025) EndedAt: 2025-10-31 23:17:58 -0400 (Fri, 31 Oct 2025) EllapsedTime: 5.1 seconds RetCode: 0 Status: OK PackageFile: peakPantheR_1.24.0.tgz PackageFileSize: 3.049 MiB