Package: pdInfoBuilder Version: 1.73.0 Command: /home/biocbuild/bbs-3.22-bioc/R/bin/R CMD INSTALL pdInfoBuilder StartedAt: 2025-10-24 15:31:49 -0400 (Fri, 24 Oct 2025) EndedAt: 2025-10-24 15:32:21 -0400 (Fri, 24 Oct 2025) EllapsedTime: 31.4 seconds RetCode: 0 Status: OK