Package: pcaMethods Version: 2.1.0 Command: /home/biocbuild/R/R/bin/R CMD INSTALL pcaMethods StartedAt: 2025-10-23 20:31:13 -0000 (Thu, 23 Oct 2025) EndedAt: 2025-10-23 20:31:34 -0000 (Thu, 23 Oct 2025) EllapsedTime: 20.8 seconds RetCode: 0 Status: OK