Package: pcaMethods Version: 2.1.0 Command: /home/biocbuild/R/R/bin/R CMD build --keep-empty-dirs --no-resave-data pcaMethods StartedAt: 2025-10-21 01:59:01 -0000 (Tue, 21 Oct 2025) EndedAt: 2025-10-21 02:01:48 -0000 (Tue, 21 Oct 2025) EllapsedTime: 167.1 seconds RetCode: 0 Status: OK PackageFile: pcaMethods_2.1.0.tar.gz PackageFileSize: 990.7 KiB