Package: pcaMethods Version: 2.1.0 Command: /home/biocbuild/bbs-3.22-bioc/R/bin/R CMD check --install=check:pcaMethods.install-out.txt --library=/home/biocbuild/bbs-3.22-bioc/R/site-library --timings pcaMethods_2.1.0.tar.gz StartedAt: 2025-10-25 02:36:57 -0400 (Sat, 25 Oct 2025) EndedAt: 2025-10-25 02:40:33 -0400 (Sat, 25 Oct 2025) EllapsedTime: 215.2 seconds RetCode: 0 Status: OK CheckDir: pcaMethods.Rcheck Warnings: 0