Package: pcaMethods Version: 2.1.0 Command: /home/biocbuild/bbs-3.22-bioc/R/bin/R CMD build --keep-empty-dirs --no-resave-data --md5 pcaMethods StartedAt: 2025-10-24 19:23:44 -0400 (Fri, 24 Oct 2025) EndedAt: 2025-10-24 19:25:28 -0400 (Fri, 24 Oct 2025) EllapsedTime: 104.1 seconds RetCode: 0 Status: OK PackageFile: pcaMethods_2.1.0.tar.gz PackageFileSize: 1022 KiB