Package: pcaMethods Version: 2.1.0 Command: /Library/Frameworks/R.framework/Resources/bin/R CMD INSTALL pcaMethods StartedAt: 2025-10-24 15:22:17 -0400 (Fri, 24 Oct 2025) EndedAt: 2025-10-24 15:22:40 -0400 (Fri, 24 Oct 2025) EllapsedTime: 23.3 seconds RetCode: 0 Status: OK