Package: pcaMethods Version: 2.1.0 Command: /Library/Frameworks/R.framework/Resources/bin/R CMD build --keep-empty-dirs --no-resave-data pcaMethods StartedAt: 2025-10-24 18:12:27 -0400 (Fri, 24 Oct 2025) EndedAt: 2025-10-24 18:15:08 -0400 (Fri, 24 Oct 2025) EllapsedTime: 161.1 seconds RetCode: 0 Status: OK PackageFile: pcaMethods_2.1.0.tar.gz PackageFileSize: 1016 KiB