Package: pcaMethods Version: 2.1.0 Command: rm -rf pcaMethods.buildbin-libdir && mkdir pcaMethods.buildbin-libdir && /Users/biocbuild/BBS/utils/build-universal.sh pcaMethods_2.1.0.tar.gz /Library/Frameworks/R.framework/Resources/bin/R pcaMethods.buildbin-libdir StartedAt: 2025-10-25 01:55:13 -0400 (Sat, 25 Oct 2025) EndedAt: 2025-10-25 01:55:36 -0400 (Sat, 25 Oct 2025) EllapsedTime: 23.2 seconds RetCode: 0 Status: OK PackageFile: pcaMethods_2.1.0.tgz PackageFileSize: 1.438 MiB