Package: pcaMethods Version: 2.1.0 Command: /Library/Frameworks/R.framework/Resources/bin/R CMD build --keep-empty-dirs --no-resave-data pcaMethods StartedAt: 2025-10-24 17:19:57 -0400 (Fri, 24 Oct 2025) EndedAt: 2025-10-24 17:20:48 -0400 (Fri, 24 Oct 2025) EllapsedTime: 50.6 seconds RetCode: 0 Status: OK PackageFile: pcaMethods_2.1.0.tar.gz PackageFileSize: 1017 KiB