Package: pcaExplorer Version: 3.3.0 Command: /home/biocbuild/bbs-3.22-bioc/R/bin/R CMD check --install=check:pcaExplorer.install-out.txt --library=/home/biocbuild/bbs-3.22-bioc/R/site-library --timings pcaExplorer_3.3.0.tar.gz StartedAt: 2025-10-28 02:35:10 -0400 (Tue, 28 Oct 2025) EndedAt: 2025-10-28 02:45:56 -0400 (Tue, 28 Oct 2025) EllapsedTime: 645.6 seconds RetCode: 0 Status: OK CheckDir: pcaExplorer.Rcheck Warnings: 0